BEGIN:VCALENDAR
VERSION:2.0
PRODID:-//Craft NB / Métiers d&#039;art NB - ECPv6.15.17.1//NONSGML v1.0//EN
CALSCALE:GREGORIAN
METHOD:PUBLISH
X-ORIGINAL-URL:https://www.craftnb.ca
X-WR-CALDESC:Events for Craft NB / Métiers d&#039;art NB
REFRESH-INTERVAL;VALUE=DURATION:PT1H
X-Robots-Tag:noindex
X-PUBLISHED-TTL:PT1H
BEGIN:VTIMEZONE
TZID:America/Halifax
BEGIN:DAYLIGHT
TZOFFSETFROM:-0400
TZOFFSETTO:-0300
TZNAME:ADT
DTSTART:20210314T060000
END:DAYLIGHT
BEGIN:STANDARD
TZOFFSETFROM:-0300
TZOFFSETTO:-0400
TZNAME:AST
DTSTART:20211107T050000
END:STANDARD
BEGIN:DAYLIGHT
TZOFFSETFROM:-0400
TZOFFSETTO:-0300
TZNAME:ADT
DTSTART:20220313T060000
END:DAYLIGHT
BEGIN:STANDARD
TZOFFSETFROM:-0300
TZOFFSETTO:-0400
TZNAME:AST
DTSTART:20221106T050000
END:STANDARD
BEGIN:DAYLIGHT
TZOFFSETFROM:-0400
TZOFFSETTO:-0300
TZNAME:ADT
DTSTART:20230312T060000
END:DAYLIGHT
BEGIN:STANDARD
TZOFFSETFROM:-0300
TZOFFSETTO:-0400
TZNAME:AST
DTSTART:20231105T050000
END:STANDARD
END:VTIMEZONE
BEGIN:VEVENT
DTSTART;TZID=America/Halifax:20220812T140000
DTEND;TZID=America/Halifax:20220814T170000
DTSTAMP:20260420T222448
CREATED:20220812T120725Z
LAST-MODIFIED:20220812T120730Z
UID:36615-1660312800-1660496400@www.craftnb.ca
SUMMARY:15e concours et vente de sculptures sur bois du Nouveau-Brunswick
DESCRIPTION:Avec l’annulation des concours de 2020 et 2021\, les plans sont bien en place pour le concours et la vente de 2022. Ce concours promet d’être encore plus grand que tous les autres\, avec davantage de récompenses et de prix d’achat. \nL’exposition de cette année sera dédiée à feu Dennis Ferguson qui a maintenu cette exposition en vie et en croissance pendant de très nombreuses années. En l’honneur de Dennis\, nous allons créer un trophée commémoratif Dennis Ferguson\, qui sera remis chaque année au lauréat du choix du public (voir l’avis pour un prix d’achat de l’aigle à tête blanche faisant partie de ce trophée). \nMembres du jury de Métiers d’Art NB participant à cet événement : Ted Boothroyd (Carvings by Ted Boothroyd)\, Brian Dykeman (Brian’s Woodland Creations)
URL:https://www.craftnb.ca/event/15e-concours-et-vente-de-sculptures-sur-bois-du-nouveau-brunswick/
LOCATION:Sir James Dunn Academy\, 180 King St\, Saint Andrews\, New Brunswick\, E5B 1Y7\, Canada
CATEGORIES:Concours
ATTACH;FMTTYPE=image/jpeg:https://www.craftnb.ca/wp-content/uploads/2022/08/ted2.jpg
END:VEVENT
END:VCALENDAR