BEGIN:VCALENDAR
VERSION:2.0
PRODID:-//Craft NB / Métiers d&#039;art NB - ECPv6.15.17.1//NONSGML v1.0//EN
CALSCALE:GREGORIAN
METHOD:PUBLISH
X-ORIGINAL-URL:https://www.craftnb.ca
X-WR-CALDESC:Events for Craft NB / Métiers d&#039;art NB
REFRESH-INTERVAL;VALUE=DURATION:PT1H
X-Robots-Tag:noindex
X-PUBLISHED-TTL:PT1H
BEGIN:VTIMEZONE
TZID:America/Halifax
BEGIN:DAYLIGHT
TZOFFSETFROM:-0400
TZOFFSETTO:-0300
TZNAME:ADT
DTSTART:20210314T060000
END:DAYLIGHT
BEGIN:STANDARD
TZOFFSETFROM:-0300
TZOFFSETTO:-0400
TZNAME:AST
DTSTART:20211107T050000
END:STANDARD
BEGIN:DAYLIGHT
TZOFFSETFROM:-0400
TZOFFSETTO:-0300
TZNAME:ADT
DTSTART:20220313T060000
END:DAYLIGHT
BEGIN:STANDARD
TZOFFSETFROM:-0300
TZOFFSETTO:-0400
TZNAME:AST
DTSTART:20221106T050000
END:STANDARD
BEGIN:DAYLIGHT
TZOFFSETFROM:-0400
TZOFFSETTO:-0300
TZNAME:ADT
DTSTART:20230312T060000
END:DAYLIGHT
BEGIN:STANDARD
TZOFFSETFROM:-0300
TZOFFSETTO:-0400
TZNAME:AST
DTSTART:20231105T050000
END:STANDARD
BEGIN:DAYLIGHT
TZOFFSETFROM:-0400
TZOFFSETTO:-0300
TZNAME:ADT
DTSTART:20240310T060000
END:DAYLIGHT
BEGIN:STANDARD
TZOFFSETFROM:-0300
TZOFFSETTO:-0400
TZNAME:AST
DTSTART:20241103T050000
END:STANDARD
END:VTIMEZONE
BEGIN:VEVENT
DTSTART;TZID=America/Halifax:20230107T080000
DTEND;TZID=America/Halifax:20230312T170000
DTSTAMP:20260419T235630
CREATED:20230207T142319Z
LAST-MODIFIED:20230207T142319Z
UID:37652-1673078400-1678640400@www.craftnb.ca
SUMMARY:Heather McCaig: Together We Bloom
DESCRIPTION:Solo exhibition by juried member Heather McCaig at the Beaverbrook Art Gallery.
URL:https://www.craftnb.ca/event/heather-mccaig-together-we-bloom/
LOCATION:Beaverbrook Art Gallery\, 703 Queen St.\, Fredericton\, New Brunswick\, E3B 1C4\, Canada
CATEGORIES:Exhibitions
ATTACH;FMTTYPE=image/jpeg:https://www.craftnb.ca/wp-content/uploads/2023/02/328249535_535479208398624_6482515674366098691_n.jpg
END:VEVENT
BEGIN:VEVENT
DTSTART;TZID=America/Halifax:20221203T163000
DTEND;TZID=America/Halifax:20230321T170000
DTSTAMP:20260419T235630
CREATED:20220822T161605Z
LAST-MODIFIED:20220822T161605Z
UID:36645-1670085000-1679418000@www.craftnb.ca
SUMMARY:Peter Powning Retrospective
DESCRIPTION:This major retrospective exhibition will survey the artistic practice of New Brunswick’s Peter Powning from his early production pottery through a remarkable 50-year career trajectory that includes the exploration of a wide diversity of forms and diverse materials\, such as glass\, clay\, cast bronze\, stone and steel. An alchemist of sorts\, he creates new sculptural forms that seem to stand outside of both time and place. Powning has spent a lifetime pursuing his art\, and he has distinguished himself as one of Canada’s most accomplished and prominent visual artists. Through the high calibre of his work and commitment\, he holds a unique place in the larger arena of Canadian art. \nA solo exhibition by Craft NB juried member Peter Powning
URL:https://www.craftnb.ca/event/peter-powning-retrospective/
LOCATION:Beaverbrook Art Gallery\, 703 Queen St.\, Fredericton\, New Brunswick\, E3B 1C4\, Canada
CATEGORIES:Exhibitions
ATTACH;FMTTYPE=image/jpeg:https://www.craftnb.ca/wp-content/uploads/2022/08/Peter-Powning-Retrospective.jpg
END:VEVENT
BEGIN:VEVENT
DTSTART;TZID=America/Halifax:20220902T163000
DTEND;TZID=America/Halifax:20220924T170000
DTSTAMP:20260419T235630
CREATED:20220908T121049Z
LAST-MODIFIED:20220908T121049Z
UID:36690-1662136200-1664038800@www.craftnb.ca
SUMMARY:Shadow Ecology/L’ombre écologique: Heather McCaig and Emily Phillips
DESCRIPTION:Shadow Ecology pairs Heather McCaig’s sculpted glass and Emily Phillips’ paintings to create a gallery exhibition about environmental conservation in Canada. Shadow Ecology will display the price paid for our human impact when resources are stripped for profit without reflecting on the destruction and related effect of the area that is destroyed. \nExhibition featuring juried Craft NB member\, Heather McCaig
URL:https://www.craftnb.ca/event/shadow-ecology-lombre-ecologique-heather-mccaig-and-emily-phillips/
LOCATION:Sunbudy Shores Arts & Nature Centre\, 139 Water St\, St. Andrews\, New Brunswick\, E5B 1A7\, Canada
CATEGORIES:Exhibitions
ATTACH;FMTTYPE=image/jpeg:https://www.craftnb.ca/wp-content/uploads/2022/09/shadow-ecology-3-1000x563-1.jpg
END:VEVENT
BEGIN:VEVENT
DTSTART;TZID=America/Halifax:20220901T080000
DTEND;TZID=America/Halifax:20220922T170000
DTSTAMP:20260419T235630
CREATED:20220714T122217Z
LAST-MODIFIED:20220714T122217Z
UID:36321-1662019200-1663866000@www.craftnb.ca
SUMMARY:Elemental: A Solo Exhibition by Darren Emenau
DESCRIPTION:
URL:https://www.craftnb.ca/event/elemental-a-solo-exhibition-by-darren-emenau/
LOCATION:Jones Gallery\, 122 Prince William St\, Saint John\, New Brunswick\, E2L 2B6\, Canada
CATEGORIES:Exhibitions
ATTACH;FMTTYPE=image/jpeg:https://www.craftnb.ca/wp-content/uploads/2022/07/Darren.jpg
END:VEVENT
BEGIN:VEVENT
DTSTART;TZID=America/Halifax:20220818T163000
DTEND;TZID=America/Halifax:20220914T170000
DTSTAMP:20260419T235630
CREATED:20220818T124006Z
LAST-MODIFIED:20220818T125513Z
UID:36623-1660840200-1663174800@www.craftnb.ca
SUMMARY:Fabricating Rythms: Ralph Simpson
DESCRIPTION:A solo exhibition and residency at the George Fry Gallery at NBCCD by juried Craft NB member\, Ralph Simpson. \nExhibition Opening: August 18 4:30pm-6pm
URL:https://www.craftnb.ca/event/fabricating-rythms-ralph-simpson/
LOCATION:George Fry Gallery\, 408 Queen St\, Fredericton\, New Brunswick\, E3B 1B6
CATEGORIES:Exhibitions
ATTACH;FMTTYPE=image/jpeg:https://www.craftnb.ca/wp-content/uploads/2022/08/21C41949-37AC-4B09-8E69-C538DED08FD4.jpg
END:VEVENT
BEGIN:VEVENT
DTSTART;TZID=America/Halifax:20220803T080000
DTEND;TZID=America/Halifax:20220828T170000
DTSTAMP:20260419T235630
CREATED:20220808T124028Z
LAST-MODIFIED:20220808T124358Z
UID:36552-1659513600-1661706000@www.craftnb.ca
SUMMARY:Commotion: A Contemporary Textile Art Show by the SAQA Atlantic Canada Region
DESCRIPTION:Commotion\, the SAQA Atlantic Canada Region’s 6th annual Exhibition\, is now showing at the Craig Gallery at Alderney Landing in Dartmouth\, Nove Scotia.\nCraft NB juried member Darcy Hunter is featured in this exhibition. \nOpening reception August 4 5:30pm-7:30pm.
URL:https://www.craftnb.ca/event/commotion-a-contemporary-textile-art-show-by-the-saqa-atlantic-canada-region/
LOCATION:The Craig Gallery at Alderney Landing\, 2 Ochterloney St\, Dartmouth\, Nova Scotia\, B2Y 4W1\, Canada
CATEGORIES:Exhibitions
ATTACH;FMTTYPE=image/jpeg:https://www.craftnb.ca/wp-content/uploads/2022/08/Darcy.jpg
END:VEVENT
BEGIN:VEVENT
DTSTART;TZID=America/Halifax:20220708T080000
DTEND;TZID=America/Halifax:20220902T170000
DTSTAMP:20260419T235630
CREATED:20220713T140324Z
LAST-MODIFIED:20220722T161923Z
UID:36257-1657267200-1662138000@www.craftnb.ca
SUMMARY:What We Turn to Stone: We are Medusa
DESCRIPTION:Solo exhibition by juried member Sheryl Crowley.
URL:https://www.craftnb.ca/event/what-we-turn-to-stone-we-are-meduse/
LOCATION:Siant John Arts Centre\, 20 Peel Plaza\, Saint John\, New Brunswick\, E2L 3G6\, Canada
CATEGORIES:Exhibitions
ATTACH;FMTTYPE=image/jpeg:https://www.craftnb.ca/wp-content/uploads/2022/07/Sheryl-exhibition.jpg
END:VEVENT
BEGIN:VEVENT
DTSTART;TZID=America/Halifax:20220610T080000
DTEND;TZID=America/Halifax:20220723T170000
DTSTAMP:20260419T235630
CREATED:20220713T150445Z
LAST-MODIFIED:20220713T150613Z
UID:36283-1654848000-1658595600@www.craftnb.ca
SUMMARY:Ellen's Tour
DESCRIPTION:This exhibition in honou of Ellen Watters is presented by Ax: The Arts and Culture Centre of Sussex\, and features work from 8 artists.  Two juried Carft NB members are featured in this exhibition – I-Chun Jenkins and Heather McCaig.
URL:https://www.craftnb.ca/event/ellens-tour/
LOCATION:Ax: The Arts and Culture Centre of Sussex\, 12 Maple Ave\, Sussex\, New Brunswick\, E4E 2N5\, Canada
CATEGORIES:Exhibitions
ATTACH;FMTTYPE=image/jpeg:https://www.craftnb.ca/wp-content/uploads/2022/07/Image-from-iOS-13.jpg
END:VEVENT
END:VCALENDAR