BEGIN:VCALENDAR
VERSION:2.0
PRODID:-//Craft NB / Métiers d&#039;art NB - ECPv6.15.17.1//NONSGML v1.0//EN
CALSCALE:GREGORIAN
METHOD:PUBLISH
X-ORIGINAL-URL:https://www.craftnb.ca
X-WR-CALDESC:Events for Craft NB / Métiers d&#039;art NB
REFRESH-INTERVAL;VALUE=DURATION:PT1H
X-Robots-Tag:noindex
X-PUBLISHED-TTL:PT1H
BEGIN:VTIMEZONE
TZID:America/Halifax
BEGIN:DAYLIGHT
TZOFFSETFROM:-0400
TZOFFSETTO:-0300
TZNAME:ADT
DTSTART:20210314T060000
END:DAYLIGHT
BEGIN:STANDARD
TZOFFSETFROM:-0300
TZOFFSETTO:-0400
TZNAME:AST
DTSTART:20211107T050000
END:STANDARD
BEGIN:DAYLIGHT
TZOFFSETFROM:-0400
TZOFFSETTO:-0300
TZNAME:ADT
DTSTART:20220313T060000
END:DAYLIGHT
BEGIN:STANDARD
TZOFFSETFROM:-0300
TZOFFSETTO:-0400
TZNAME:AST
DTSTART:20221106T050000
END:STANDARD
BEGIN:DAYLIGHT
TZOFFSETFROM:-0400
TZOFFSETTO:-0300
TZNAME:ADT
DTSTART:20230312T060000
END:DAYLIGHT
BEGIN:STANDARD
TZOFFSETFROM:-0300
TZOFFSETTO:-0400
TZNAME:AST
DTSTART:20231105T050000
END:STANDARD
BEGIN:DAYLIGHT
TZOFFSETFROM:-0400
TZOFFSETTO:-0300
TZNAME:ADT
DTSTART:20240310T060000
END:DAYLIGHT
BEGIN:STANDARD
TZOFFSETFROM:-0300
TZOFFSETTO:-0400
TZNAME:AST
DTSTART:20241103T050000
END:STANDARD
END:VTIMEZONE
BEGIN:VEVENT
DTSTART;TZID=America/Halifax:20230807T110000
DTEND;TZID=America/Halifax:20230807T193000
DTSTAMP:20260419T202152
CREATED:20230720T152154Z
LAST-MODIFIED:20230720T152157Z
UID:38290-1691406000-1691436600@www.craftnb.ca
SUMMARY:FESTIVAL D’ÉTÉ MÉTIERS D’ART NB
DESCRIPTION:Après quelques années de repos\, nous sommes de retour pour notre festival d’été 2023 ! Nous sommes ravis de nous associer à Picaroons pour vous offrir une incroyable célébration de la fête du Nouveau-Brunswick dans le quartier nord de Fredericton. Plus de 20 membres du jury de Métiers d’Art NB seront installés à l’intérieur dans la rotonde de Picaroons et à l’extérieur dans le parc Carleton\, à côté de la brasserie. \nLe Nouveau-Brunswick abrite certains des artistes les plus accomplis du pays\, et nous sommes très fiers de l’immense quantité de talents que la province a à offrir. Nous croyons que l’artisanat est l’incarnation de la culture néo-brunswickoise\, et nous sommes donc ravis de célébrer avec les gens du Nouveau-Brunswick à l’occasion de cette fête des métiers d’art !
URL:https://www.craftnb.ca/event/festival-dete-metiers-dart-nb/
LOCATION:Carleton Park and Picaroons\, 912 Union St.\, Fredericton\, New Brunswick\, E3A 5M5\, Canada
CATEGORIES:Festivals
ATTACH;FMTTYPE=image/png:https://www.craftnb.ca/wp-content/uploads/2023/07/Summer-Fest-Post-4.png
ORGANIZER;CN="Craft NB Metiers d'Arts":MAILTO:communications@craftnb.ca
END:VEVENT
BEGIN:VEVENT
DTSTART;TZID=America/Halifax:20221210T100000
DTEND;TZID=America/Halifax:20221210T140000
DTSTAMP:20260419T202152
CREATED:20221124T153121Z
LAST-MODIFIED:20221124T153124Z
UID:37083-1670666400-1670680800@www.craftnb.ca
SUMMARY:Marché de Noël de St Andrews
DESCRIPTION:Marché de Noël de St Andrews à l’Académie Sir James Dunn. \nLes membres du jury de Métiers d’Art NB participent à cet événement : Sadie Gagner (Topsail Canvas)\, Vicki Haddon (Soul’s Journey Jewelry)\, Kelly Cooke (Brettlynn Farms)\, Helen Stanley (Helen Stanley Pottery)\, Alanna Baird (Tin Fish Studio).
URL:https://www.craftnb.ca/event/marche-de-noel-de-st-andrews/
LOCATION:Sir James Dunn Academy\, 180 King St\, Saint Andrews\, New Brunswick\, E5B 1Y7\, Canada
CATEGORIES:Festivals
ATTACH;FMTTYPE=image/jpeg:https://www.craftnb.ca/wp-content/uploads/2022/11/316110615_192442186675043_436431720521611185_n.jpg
END:VEVENT
BEGIN:VEVENT
DTSTART;TZID=America/Halifax:20221202T150000
DTEND;TZID=America/Halifax:20221204T160000
DTSTAMP:20260419T202152
CREATED:20220712T153426Z
LAST-MODIFIED:20221124T135615Z
UID:36246-1669993200-1670169600@www.craftnb.ca
SUMMARY:Festival de Noël de Métiers d'Art NB
DESCRIPTION:Faites vos achats auprès des artistes les plus pratiquants et les plus accomplis du Nouveau-Brunswick\, juste à temps pour Noël. \nMembres évalués de Métiers d’Art NB participant à cet événement : Bernard Long (Atelier Pierre de Lune)\, Sadie Gagner (Topsail Canvas)\, Kennedy McKeen (Midas Well Creations)\, Patricia Goodine (Five Crows Silver)\, Laura Richard (Saltwinds Coffee Company)\, Bella McBride (McBride House)\, Shelley Beckett-Jette (Inferno By Canoe Cove Studios)\, Jamie Brown (Jamie Brown Designs)\, Renata Britez (RB Studio)\, Cynthia Johnson-Phillips (Fiddling Ferns Artisan Studio)\, Megan Billings (Megan Billings Pottery)\, Kelly Cooke (Brettlynn Farms)\, Maureen Fryday (Fryday’s Child)\, Alyson Brown (Legacy Lane Fiber Mill)\, Dorothee Rosen (Dorothee Rosen Designer Goldsmith)\, Kas Stone (Kas Stone Photographic Art)\, Steve Jones (Steve Jones Yo)\, Trudy Gilbertson (Cabin Fever Carving)\, Heather McCaig (Heather McCaig Glass)\, Nick Brown (NB Wood Finery)\, Jonathan Corey (Masterworks Jewellery by Jonathan Corey)\, Robyn Shortt (Robyn Shortt Photography)\, Karen Loberg (Handwoven Treasures Studio In the Woods)\, Andrew Palmer (Roberta Originals)\, Ralph Simpson (Ralph Simpson – Plant Fiber Artist)\, Michelle Beaulieu (The Apron Girl Boutique)\, Barry Smith (Bare Spoons)\, Vicki Haddon (Soul’s Journey Jewelry).
URL:https://www.craftnb.ca/event/festival-de-noel-de-metiers-dart-nb/
LOCATION:Marco Polo Cruise Terminal\, 111 Water St\, Saint John\, New-Brunswick\, E2L 0B1\, Canada
CATEGORIES:Festivals
ATTACH;FMTTYPE=image/jpeg:https://www.craftnb.ca/wp-content/uploads/2022/01/christmasfest2022.jpg
ORGANIZER;CN="Craft NB Metiers d'Arts":MAILTO:communications@craftnb.ca
END:VEVENT
BEGIN:VEVENT
DTSTART;TZID=America/Halifax:20221126T100000
DTEND;TZID=America/Halifax:20221126T160000
DTSTAMP:20260419T202152
CREATED:20221124T143404Z
LAST-MODIFIED:20221124T143408Z
UID:37073-1669456800-1669478400@www.craftnb.ca
SUMMARY:Etsy NB: Holly Jolly Holiday Market
DESCRIPTION:Un festival de Noël organisé par Etsy NB. \nLes membres évalués de Métiers d’Art NB participent à cet événement : Sadie Gagner (Topsail Canvas)\, Vicki Haddon (Soul’s Journey Jewely)\, Trish Hirschkorn (Trish Raine Hats)\, Kelly Cooke (Brettlynn Farms)\, Renata Britez (RB Studio)\, Kennedy McKeen (Midas Well Creations)\, Darcy Hunter (Darcy Hunter Art)\, Kelley Joyce-Floyd (Saltwater Joys Studios)\, Audree H-St. Amour (Audree H-St.Amour Jewellery)\, Kevin MacLean (Oddmentartist)\, I-Chun Jenkins (Fibre Theory).
URL:https://www.craftnb.ca/event/etsy-nb-holly-jolly-holiday-market/
LOCATION:UNB Currie Centre\, 15 Peter Kylle Drive\, Fredericton\, New Brunswick\, Canada
CATEGORIES:Festivals
ATTACH;FMTTYPE=image/jpeg:https://www.craftnb.ca/wp-content/uploads/2022/11/IMG_2023.jpg
END:VEVENT
BEGIN:VEVENT
DTSTART;TZID=America/Halifax:20221125T140000
DTEND;TZID=America/Halifax:20221127T170000
DTSTAMP:20260419T202152
CREATED:20220713T155008Z
LAST-MODIFIED:20220713T155011Z
UID:36307-1669384800-1669568400@www.craftnb.ca
SUMMARY:Turner's Christmas at the Coliseum
DESCRIPTION:Le Noël de Turner au Colisée se déroule le 25 novembre de 14h à 21h\, le 26 novembre de 10h à 21h et le 27 novembre de 10h à 17h.\nLes membres du jury participent à cet événement : Jennifer Hunter (Hunter Street Silver)\, Megan Billings (Megan Billings Pottery)\, Kelley Joyce-Floyd (Saltwater Joys Studio)\, Sadie Gagner (Topsail Canvas)\, Brian Dykeman (Woodland Creations).
URL:https://www.craftnb.ca/event/turners-christmas-at-the-coliseum/
LOCATION:Moncton Coliseum\, 377 Killam Dr\, Moncton\, New Brunswick\, E1C 3T1\, Canada
CATEGORIES:Festivals
ATTACH;FMTTYPE=image/jpeg:https://www.craftnb.ca/wp-content/uploads/2022/07/Turners.jpg
END:VEVENT
BEGIN:VEVENT
DTSTART;TZID=America/Halifax:20221118T160000
DTEND;TZID=America/Halifax:20221210T210000
DTSTAMP:20260419T202152
CREATED:20221017T122221Z
LAST-MODIFIED:20221017T122223Z
UID:36787-1668787200-1670706000@www.craftnb.ca
SUMMARY:Marché de Noël en plein air de style européen
DESCRIPTION:*Cet événement se déroule sur quatre week-ends consécutifs. Les dates sont : 18 et 19 novembre\, 25 et 26\, et 2 et 3\, 9 et 10 décembre*. \nUn marché de Noël en plein air de style européen qui remet en question ce que les Canadiens considèrent comme des marchés de Noël. L’accent sera mis sur le fait de manger\, boire et socialiser avec des amis et des étrangers tout en faisant des achats difficiles pour la famille et les amis auprès d’artisans locaux. L’esprit d’un marché de Noël européen est profondément ancré dans la socialisation et la rencontre avec de nouveaux amis tout en faisant du shopping. De plus\, le marché sera organisé par nos soins\, dans notre ferme\, ce qui vous permettra de rendre visite à nos animaux. Nous proposerons d’authentiques friandises de Noël et\, espérons-le\, des boissons traditionnelles. Les enfants pourront être pris en photo avec le Père Noël et des activités amusantes seront organisées pour les enfants et les familles le samedi pendant la journée et pour les adultes le vendredi et le samedi soir. Cet événement se déroulera sur 4 week-ends\, le vendredi soir (de 16h à 21h) et le samedi en milieu de journée (de 12h à 21h) jusqu’au soir. Entrée à la porte. \nLes membres du jury de Métiers d’Art NB participent à cet événement : Emily McCumber (The Spinner Weaver)
URL:https://www.craftnb.ca/event/marche-de-noel-en-plein-air-de-style-europeen/
LOCATION:Belding Hill Farms\, 404 Ravine Rd\, Norton\, New Brunswick\, E5N 7S9\, Canada
CATEGORIES:Festivals
ATTACH;FMTTYPE=image/jpeg:https://www.craftnb.ca/wp-content/uploads/2022/10/300834895_3308813182723086_7821261696600207385_n.jpg
END:VEVENT
BEGIN:VEVENT
DTSTART;TZID=America/Halifax:20221106T100000
DTEND;TZID=America/Halifax:20221106T170000
DTSTAMP:20260419T202152
CREATED:20220829T132037Z
LAST-MODIFIED:20221017T121212Z
UID:36686-1667728800-1667754000@www.craftnb.ca
SUMMARY:Marché artisanal de Renforth
DESCRIPTION:Le marché artisanal de Renforth organise un marché d’un jour en novembre et en mai de chaque année. Plus de 30 artisans qualifiés proposent une sélection fantastique de travaux\, notamment de la poterie\, des bijoux\, des arts textiles\, des peintures\, des sculptures et des tournages sur bois\, des vitraux et bien d’autres choses encore. \nMembres évalués de Métiers d’Art NB participant à cet événement : Sadie Gagner (Topsail Canvas)\, Kim Bent (Bent Threads)\, Gudi Pach (TerraBijou)\, William Robinson (William Robinson Jewelry)\, Bella McBride (McBride House)\, Lynda Constantine (Constantine Designs). Emily McCumber (The Spinner Weaver)
URL:https://www.craftnb.ca/event/marche-artisanal-de-renforth/
LOCATION:Bill McGuire Centre\, 95 James Renforth Dr.\, Rothesay\, New Brunswick\, E2H 1K7\, Canada
CATEGORIES:Festivals
END:VEVENT
BEGIN:VEVENT
DTSTART;TZID=America/Halifax:20221105T100000
DTEND;TZID=America/Halifax:20221107T170000
DTSTAMP:20260419T202152
CREATED:20220718T160106Z
LAST-MODIFIED:20220718T160112Z
UID:36355-1667642400-1667840400@www.craftnb.ca
SUMMARY:Jardin Emballé
DESCRIPTION:Pour cette 2e édition du Jardin Emballé\, plus de 45 exposants seront réunis au Jardin botanique du Nouveau-Brunswick les 5-6 et 7 novembre prochains\nLes membres du jury de Métiers d’Art NB participent à cet événement : Michelle Beaulieu (The Apron Girl Boutique)
URL:https://www.craftnb.ca/event/jardin-emballe/
LOCATION:Jardin botanique du Nouveau-Brunswick\, 15 Isidore-Boucher Blvd\, Saint-Jacques\, New Brunswick\, E7B 1A3\, Canada
CATEGORIES:Festivals
ATTACH;FMTTYPE=image/jpeg:https://www.craftnb.ca/wp-content/uploads/2022/07/JardinEmballe.jpg
END:VEVENT
BEGIN:VEVENT
DTSTART;TZID=America/Halifax:20221015T090000
DTEND;TZID=America/Halifax:20221015T150000
DTSTAMP:20260419T202152
CREATED:20220829T130426Z
LAST-MODIFIED:20220829T130432Z
UID:36681-1665824400-1665846000@www.craftnb.ca
SUMMARY:Festival de l'artisanat de Queen Square
DESCRIPTION:Le QSFM Fine Craft Festival est un événement d’artisanat d’art *extérieur* organisé au cœur du quartier historique de Saint John. Organisé par le Queen Square Farmers’ Market (QSFM) le samedi\, le festival vise à promouvoir les artisans et les artistes locaux. \nLes membres évalués de Métiers d’Art NB participent à cet événement : Sadie Gagner (Topsail Canvas)\, Vicki Haddon (Soul’s Journey Jewellery)\, Kelly Cooke (Brettlynn Farms Ltd.)\, Helen Stanley (Helen Stanley Pottery)\, Gudi Pach (TerraBijou).
URL:https://www.craftnb.ca/event/festival-de-lartisanat-de-queen-square-2/
LOCATION:Queen Square\, 16-20 Queen Square S\, Saint John\, New Brunswick\, E2L 1R7\, Canada
CATEGORIES:Festivals
ATTACH;FMTTYPE=image/jpeg:https://www.craftnb.ca/wp-content/uploads/2022/08/QSFCM1.jpg
END:VEVENT
BEGIN:VEVENT
DTSTART;TZID=America/Halifax:20220917T120000
DTEND;TZID=America/Halifax:20220917T200000
DTSTAMP:20260419T202152
CREATED:20220825T132322Z
LAST-MODIFIED:20220825T132325Z
UID:36668-1663416000-1663444800@www.craftnb.ca
SUMMARY:Festival de l'ail de Windsor
DESCRIPTION:Cette année\, la fête annuelle de l’ail se déroulera sous la forme d’une foire de rue d’une journée dans le centre-ville de Windsor.\nProfitez de tout ce qui concerne l’ail ! \n– la foire artistique avec jury\n– les vendeurs d’ail et de produits de l’ail\n– musique en direct toute la journée\n– démonstrations de cuisine\n– conférences sur l’ail\n– concours (y compris le concours de mangeurs d’ail à 16 heures)\n– de merveilleux vendeurs de nourriture\n– des vendeurs de vins/alcools/spiritueux\n– plusieurs restaurants sur le site qui proposeront des menus à base d’ail\n– et de nombreuses autres activités offertes par certaines des merveilleuses entreprises de Windsor. \nMembres évalués de Métiers d’Art NB participant à cet événement : Dorothée Rosen (Dorothée Rosen Goldsmith)
URL:https://www.craftnb.ca/event/festival-de-lail-de-windsor/
LOCATION:Downtown Windsor\, Windsor\, Nova Scotia\, Canada
CATEGORIES:Festivals
ATTACH;FMTTYPE=image/jpeg:https://www.craftnb.ca/wp-content/uploads/2022/08/garlic-fest.jpg
END:VEVENT
BEGIN:VEVENT
DTSTART;TZID=America/Halifax:20220910T110000
DTEND;TZID=America/Halifax:20220910T160000
DTSTAMP:20260419T202152
CREATED:20220822T143151Z
LAST-MODIFIED:20220822T143154Z
UID:36642-1662807600-1662825600@www.craftnb.ca
SUMMARY:Rassemblement de fibres de Gagetown
DESCRIPTION:Un rassemblement annuel de fibres qui se tient pendant le marché des fibres de Gagetown\, pendant une journée en septembre. Démonstrations de fibres\, vendeurs\, divertissement et déjeuner. \nLes membres du jury de Métiers d’Art NB participent à cet événement : Alison Murphy (Joyful Coyote Designs)\, Renata Britez (RB Studio Art Centre and Gallery).
URL:https://www.craftnb.ca/event/rassemblement-de-fibres-de-gagetown/
LOCATION:Gagetown Farmers Market\, 30 Front St\, Gagetown\, New Brunswick\, E5M1A1\, Canada
CATEGORIES:Festivals
ATTACH;FMTTYPE=image/jpeg:https://www.craftnb.ca/wp-content/uploads/2022/08/Fibre-Gathering.jpg
END:VEVENT
BEGIN:VEVENT
DTSTART;TZID=America/Halifax:20220820T090000
DTEND;TZID=America/Halifax:20220820T170000
DTSTAMP:20260419T202152
CREATED:20220729T124749Z
LAST-MODIFIED:20220729T124752Z
UID:36513-1660986000-1661014800@www.craftnb.ca
SUMMARY:Artisans dans la basse-cour
DESCRIPTION:Brent Rourke Cabinetmaker & The Barn in Bloomfield présentent Crafters in the Barnyard.  Cette année\, il y a beaucoup d’excellents vendeurs\, le camion de nourriture Roxy et la musique en direct de Kevin Bennett Jr.\nLes membres du jury de Métiers d’Art NB participent à cet événement : Sadie Gagner (Topsail Canvas)\, Gudi Pach (TerraBijou)\, Helen Stanley (Helen Stanley Pottery)\, Vicki Haddon (Soul’s Journey Jewelry) et Kelly Cooke (Brettlynn Farms Ltd.).
URL:https://www.craftnb.ca/event/artisans-dans-la-basse-cour/
LOCATION:Brent Rourke Cabinetmaker & The Barn in Bloomfield\, 569 Route 121\, Bloomfield\, New Brunswick\, E5N 4T9\, Canada
CATEGORIES:Festivals
ATTACH;FMTTYPE=image/png:https://www.craftnb.ca/wp-content/uploads/2022/07/crafters-in-the-barnyard.png
END:VEVENT
BEGIN:VEVENT
DTSTART;TZID=America/Halifax:20220813T100000
DTEND;TZID=America/Halifax:20220814T170000
DTSTAMP:20260419T202152
CREATED:20220714T161750Z
LAST-MODIFIED:20220809T155742Z
UID:36336-1660384800-1660496400@www.craftnb.ca
SUMMARY:Artistes dans le jardin
DESCRIPTION:Événement de deux jours qui se déroule à l’extérieur\, dans un environnement magnifique\, au Cedar Cafe et au four à pizza au bois.\nLes membres du jury de Craft NB participent à cet événement : Alyson Brown (Legacy Lane Fiber Mill))\, Anne Stillwell (Ridge Works Studio)\, Angela Belyea (The Herb Farm)\,  Jamie Brown (Jamie Brown Designs)\, Heather McCaig (Heather McCaig Glass)\, Gudi Pach (TerraBijou)\, Bernard Long (Atelier Pierre de Lune)\, Lynda Constantine (Constantine Designs)\, Suzanne Prior (Prior Jewellery Designs)\, Megan Billings (Megan Billings Pottery)
URL:https://www.craftnb.ca/event/artistes-dans-le-jardin/
LOCATION:Cornhill Nursery\, 2700 Route 890\, Cornhill\, New Brunswick\, E4Z 1M2\, Canada
CATEGORIES:Festivals
ATTACH;FMTTYPE=image/jpeg:https://www.craftnb.ca/wp-content/uploads/2022/07/artists-in-the-garden.jpg
END:VEVENT
BEGIN:VEVENT
DTSTART;TZID=America/Halifax:20220805T080000
DTEND;TZID=America/Halifax:20220807T170000
DTSTAMP:20260419T202152
CREATED:20220727T122702Z
LAST-MODIFIED:20220727T122711Z
UID:36503-1659686400-1659891600@www.craftnb.ca
SUMMARY:La vie aux lacs
DESCRIPTION:Le festival Life at the Lakes est une célébration annuelle des arts\, de la nature\, de la culture et de la communauté dans le village de Cambridge-Narrows et ses environs.  Il a lieu le week-end suivant la fête du Nouveau-Brunswick. Plus de quinze endroits dans la région présentent une variété d’activités et d’événements.  Il y en a pour tous les goûts… un petit déjeuner communautaire\, une exposition de courtepointes\, un salon de l’auto\, des artisans à l’œuvre\, des expositions d’art\, du croquet dans la lavande\, des promenades d’interprétation de la nature\, le partage de la littérature et de l’histoire\, la vente de livres\, une dégustation de vins\, un triathlon\, des spectacles musicaux et bien plus encore !\nLes membres du jury de Métiers d’Art NB participent à cet événement : Nancy Blanchard-MacDonald (The Pottery at Jemseg)\, Patricia Goodine (Five Crows Silver).
URL:https://www.craftnb.ca/event/la-vie-aux-lacs/
LOCATION:Village of Cambridge-Narrows\, Cambridge-Narrows\, New Brunswick\, Canada
CATEGORIES:Festivals
ATTACH;FMTTYPE=image/jpeg:https://www.craftnb.ca/wp-content/uploads/2022/07/Life-at-the-Lakes.jpg
END:VEVENT
BEGIN:VEVENT
DTSTART;TZID=America/Halifax:20220729T140000
DTEND;TZID=America/Halifax:20220731T170000
DTSTAMP:20260419T202152
CREATED:20220713T153403Z
LAST-MODIFIED:20220713T153407Z
UID:36299-1659103200-1659286800@www.craftnb.ca
SUMMARY:Parc Victoria foire des artisans
DESCRIPTION:40e foire artisanale annuelle du parc Victoria\, 29 juillet – 14 h à 20 h\, 30 juillet – 10 h à 18 h\, 31 juillet – 10 h à 17 h. Deux de nos membres du jury participeront à cette exposition : Megan Billings (Megan Billings Pottery) et Kas Stone (Kas Stone Photographic Art).\nPour plus d’informations\, visitez le lien ci-joint.
URL:https://www.craftnb.ca/event/parc-victoria-foire-des-artisans/
LOCATION:Victoria Park\, 218 Cameron Street\, Moncton\, New Brunswick\, E1C5Z3\, Canada
CATEGORIES:Festivals
ATTACH;FMTTYPE=image/jpeg:https://www.craftnb.ca/wp-content/uploads/2022/07/victoria-park.jpg
END:VEVENT
BEGIN:VEVENT
DTSTART;TZID=America/Halifax:20220723T080000
DTEND;TZID=America/Halifax:20220724T170000
DTSTAMP:20260419T202152
CREATED:20220722T161555Z
LAST-MODIFIED:20220722T161557Z
UID:36422-1658563200-1658682000@www.craftnb.ca
SUMMARY:Bloomin' Artists
DESCRIPTION:Bloomin’ Artists invite les artistes à se déployer dans les environs pour créer de petites œuvres d’art qui sont ensuite vendues aux enchères silencieuses. Les artistes ont l’occasion de se mettre en valeur et de montrer leur talent\, et les enchérisseurs obtiennent des œuvres d’art originales qui sont abordables pour eux. \nLes membres évalués de Métiers d’Art NB participent à cet événement : Alison Murphy (Joyful Coyote Designs)\, Sheryl Crowley (Fractured Art Mosaics).
URL:https://www.craftnb.ca/event/bloomin-artists/
LOCATION:Hampton Lighthouse River Centre\, 1075 Main St\, Hampton\, New Brunswick\, E5N 6G1\, Canada
CATEGORIES:Festivals
ATTACH;FMTTYPE=image/png:https://www.craftnb.ca/wp-content/uploads/2022/07/Bloomin-Artists-666x1024-1.png
END:VEVENT
END:VCALENDAR