BEGIN:VCALENDAR
VERSION:2.0
PRODID:-//Craft NB / Métiers d&#039;art NB - ECPv6.15.17.1//NONSGML v1.0//EN
CALSCALE:GREGORIAN
METHOD:PUBLISH
X-WR-CALNAME:Craft NB / Métiers d&#039;art NB
X-ORIGINAL-URL:https://www.craftnb.ca
X-WR-CALDESC:Events for Craft NB / Métiers d&#039;art NB
REFRESH-INTERVAL;VALUE=DURATION:PT1H
X-Robots-Tag:noindex
X-PUBLISHED-TTL:PT1H
BEGIN:VTIMEZONE
TZID:America/Halifax
BEGIN:DAYLIGHT
TZOFFSETFROM:-0400
TZOFFSETTO:-0300
TZNAME:ADT
DTSTART:20210314T060000
END:DAYLIGHT
BEGIN:STANDARD
TZOFFSETFROM:-0300
TZOFFSETTO:-0400
TZNAME:AST
DTSTART:20211107T050000
END:STANDARD
BEGIN:DAYLIGHT
TZOFFSETFROM:-0400
TZOFFSETTO:-0300
TZNAME:ADT
DTSTART:20220313T060000
END:DAYLIGHT
BEGIN:STANDARD
TZOFFSETFROM:-0300
TZOFFSETTO:-0400
TZNAME:AST
DTSTART:20221106T050000
END:STANDARD
BEGIN:DAYLIGHT
TZOFFSETFROM:-0400
TZOFFSETTO:-0300
TZNAME:ADT
DTSTART:20230312T060000
END:DAYLIGHT
BEGIN:STANDARD
TZOFFSETFROM:-0300
TZOFFSETTO:-0400
TZNAME:AST
DTSTART:20231105T050000
END:STANDARD
END:VTIMEZONE
BEGIN:VEVENT
DTSTART;TZID=America/Halifax:20220813T100000
DTEND;TZID=America/Halifax:20220814T170000
DTSTAMP:20260420T162722
CREATED:20220714T161750Z
LAST-MODIFIED:20220809T155742Z
UID:36336-1660384800-1660496400@www.craftnb.ca
SUMMARY:Artistes dans le jardin
DESCRIPTION:Événement de deux jours qui se déroule à l’extérieur\, dans un environnement magnifique\, au Cedar Cafe et au four à pizza au bois.\nLes membres du jury de Craft NB participent à cet événement : Alyson Brown (Legacy Lane Fiber Mill))\, Anne Stillwell (Ridge Works Studio)\, Angela Belyea (The Herb Farm)\,  Jamie Brown (Jamie Brown Designs)\, Heather McCaig (Heather McCaig Glass)\, Gudi Pach (TerraBijou)\, Bernard Long (Atelier Pierre de Lune)\, Lynda Constantine (Constantine Designs)\, Suzanne Prior (Prior Jewellery Designs)\, Megan Billings (Megan Billings Pottery)
URL:https://www.craftnb.ca/event/artistes-dans-le-jardin/
LOCATION:Cornhill Nursery\, 2700 Route 890\, Cornhill\, New Brunswick\, E4Z 1M2\, Canada
CATEGORIES:Festivals
ATTACH;FMTTYPE=image/jpeg:https://www.craftnb.ca/wp-content/uploads/2022/07/artists-in-the-garden.jpg
END:VEVENT
BEGIN:VEVENT
DTSTART;TZID=America/Halifax:20220805T080000
DTEND;TZID=America/Halifax:20220807T170000
DTSTAMP:20260420T162722
CREATED:20220727T122702Z
LAST-MODIFIED:20220727T122711Z
UID:36503-1659686400-1659891600@www.craftnb.ca
SUMMARY:La vie aux lacs
DESCRIPTION:Le festival Life at the Lakes est une célébration annuelle des arts\, de la nature\, de la culture et de la communauté dans le village de Cambridge-Narrows et ses environs.  Il a lieu le week-end suivant la fête du Nouveau-Brunswick. Plus de quinze endroits dans la région présentent une variété d’activités et d’événements.  Il y en a pour tous les goûts… un petit déjeuner communautaire\, une exposition de courtepointes\, un salon de l’auto\, des artisans à l’œuvre\, des expositions d’art\, du croquet dans la lavande\, des promenades d’interprétation de la nature\, le partage de la littérature et de l’histoire\, la vente de livres\, une dégustation de vins\, un triathlon\, des spectacles musicaux et bien plus encore !\nLes membres du jury de Métiers d’Art NB participent à cet événement : Nancy Blanchard-MacDonald (The Pottery at Jemseg)\, Patricia Goodine (Five Crows Silver).
URL:https://www.craftnb.ca/event/la-vie-aux-lacs/
LOCATION:Village of Cambridge-Narrows\, Cambridge-Narrows\, New Brunswick\, Canada
CATEGORIES:Festivals
ATTACH;FMTTYPE=image/jpeg:https://www.craftnb.ca/wp-content/uploads/2022/07/Life-at-the-Lakes.jpg
END:VEVENT
BEGIN:VEVENT
DTSTART;TZID=America/Halifax:20220729T140000
DTEND;TZID=America/Halifax:20220731T170000
DTSTAMP:20260420T162722
CREATED:20220713T153403Z
LAST-MODIFIED:20220713T153407Z
UID:36299-1659103200-1659286800@www.craftnb.ca
SUMMARY:Parc Victoria foire des artisans
DESCRIPTION:40e foire artisanale annuelle du parc Victoria\, 29 juillet – 14 h à 20 h\, 30 juillet – 10 h à 18 h\, 31 juillet – 10 h à 17 h. Deux de nos membres du jury participeront à cette exposition : Megan Billings (Megan Billings Pottery) et Kas Stone (Kas Stone Photographic Art).\nPour plus d’informations\, visitez le lien ci-joint.
URL:https://www.craftnb.ca/event/parc-victoria-foire-des-artisans/
LOCATION:Victoria Park\, 218 Cameron Street\, Moncton\, New Brunswick\, E1C5Z3\, Canada
CATEGORIES:Festivals
ATTACH;FMTTYPE=image/jpeg:https://www.craftnb.ca/wp-content/uploads/2022/07/victoria-park.jpg
END:VEVENT
BEGIN:VEVENT
DTSTART;TZID=America/Halifax:20220723T080000
DTEND;TZID=America/Halifax:20220724T170000
DTSTAMP:20260420T162722
CREATED:20220722T161555Z
LAST-MODIFIED:20220722T161557Z
UID:36422-1658563200-1658682000@www.craftnb.ca
SUMMARY:Bloomin' Artists
DESCRIPTION:Bloomin’ Artists invite les artistes à se déployer dans les environs pour créer de petites œuvres d’art qui sont ensuite vendues aux enchères silencieuses. Les artistes ont l’occasion de se mettre en valeur et de montrer leur talent\, et les enchérisseurs obtiennent des œuvres d’art originales qui sont abordables pour eux. \nLes membres évalués de Métiers d’Art NB participent à cet événement : Alison Murphy (Joyful Coyote Designs)\, Sheryl Crowley (Fractured Art Mosaics).
URL:https://www.craftnb.ca/event/bloomin-artists/
LOCATION:Hampton Lighthouse River Centre\, 1075 Main St\, Hampton\, New Brunswick\, E5N 6G1\, Canada
CATEGORIES:Festivals
ATTACH;FMTTYPE=image/png:https://www.craftnb.ca/wp-content/uploads/2022/07/Bloomin-Artists-666x1024-1.png
END:VEVENT
END:VCALENDAR