BEGIN:VCALENDAR
VERSION:2.0
PRODID:-//Craft NB / Métiers d&#039;art NB - ECPv6.15.17.1//NONSGML v1.0//EN
CALSCALE:GREGORIAN
METHOD:PUBLISH
X-WR-CALNAME:Craft NB / Métiers d&#039;art NB
X-ORIGINAL-URL:https://www.craftnb.ca
X-WR-CALDESC:Events for Craft NB / Métiers d&#039;art NB
REFRESH-INTERVAL;VALUE=DURATION:PT1H
X-Robots-Tag:noindex
X-PUBLISHED-TTL:PT1H
BEGIN:VTIMEZONE
TZID:America/Halifax
BEGIN:DAYLIGHT
TZOFFSETFROM:-0400
TZOFFSETTO:-0300
TZNAME:ADT
DTSTART:20220313T060000
END:DAYLIGHT
BEGIN:STANDARD
TZOFFSETFROM:-0300
TZOFFSETTO:-0400
TZNAME:AST
DTSTART:20221106T050000
END:STANDARD
BEGIN:DAYLIGHT
TZOFFSETFROM:-0400
TZOFFSETTO:-0300
TZNAME:ADT
DTSTART:20230312T060000
END:DAYLIGHT
BEGIN:STANDARD
TZOFFSETFROM:-0300
TZOFFSETTO:-0400
TZNAME:AST
DTSTART:20231105T050000
END:STANDARD
BEGIN:DAYLIGHT
TZOFFSETFROM:-0400
TZOFFSETTO:-0300
TZNAME:ADT
DTSTART:20240310T060000
END:DAYLIGHT
BEGIN:STANDARD
TZOFFSETFROM:-0300
TZOFFSETTO:-0400
TZNAME:AST
DTSTART:20241103T050000
END:STANDARD
BEGIN:DAYLIGHT
TZOFFSETFROM:-0400
TZOFFSETTO:-0300
TZNAME:ADT
DTSTART:20250309T060000
END:DAYLIGHT
BEGIN:STANDARD
TZOFFSETFROM:-0300
TZOFFSETTO:-0400
TZNAME:AST
DTSTART:20251102T050000
END:STANDARD
BEGIN:DAYLIGHT
TZOFFSETFROM:-0400
TZOFFSETTO:-0300
TZNAME:ADT
DTSTART:20260308T060000
END:DAYLIGHT
BEGIN:STANDARD
TZOFFSETFROM:-0300
TZOFFSETTO:-0400
TZNAME:AST
DTSTART:20261101T050000
END:STANDARD
END:VTIMEZONE
BEGIN:VEVENT
DTSTART;TZID=America/Halifax:20230807T110000
DTEND;TZID=America/Halifax:20230807T190000
DTSTAMP:20260425T204737
CREATED:20230720T154259Z
LAST-MODIFIED:20230720T154259Z
UID:38292-1691406000-1691434800@www.craftnb.ca
SUMMARY:Summer Fest Workshop: Wood Spoon Carving with Barry Smith
DESCRIPTION:Learn how to carve your very own wooden spoon in this intensive full-day class. Spoon carving is a meditative craft that can bolster your creativity and inspire you to make something that adds a beautiful touch of nature to your kitchen. \nThis workshop will cover safety practices\, wood types\, and an introduction to basic carving techniques. At the end of the day\, you will leave with a one-of-kind hand-carved wooden spoon created by you! \nNo experience necessary\, you just need to be able to safely handle a knife and be open to try something new. \nRegister at the URL linked. Ages 14+
URL:https://www.craftnb.ca/event/summer-fest-workshop-wood-spoon-carving-with-barry-smith/
LOCATION:Carleton Park and Picaroons\, 912 Union St.\, Fredericton\, New Brunswick\, E3A 5M5\, Canada
CATEGORIES:Classes and Workshops
ATTACH;FMTTYPE=image/png:https://www.craftnb.ca/wp-content/uploads/2023/07/Workshop-Poster-1-1.png
ORGANIZER;CN="Craft NB Metiers d'Arts":MAILTO:communications@craftnb.ca
END:VEVENT
BEGIN:VEVENT
DTSTART;TZID=America/Halifax:20230807T110000
DTEND;TZID=America/Halifax:20230807T190000
DTSTAMP:20260425T204737
CREATED:20230720T154425Z
LAST-MODIFIED:20230720T154427Z
UID:38298-1691406000-1691434800@www.craftnb.ca
SUMMARY:Atelier de la Fête de l'été : Sculpture de cuillères en bois avec Barry Smith
DESCRIPTION:Apprenez à sculpter votre propre cuillère en bois dans ce cours intensif d’une journée. La sculpture de cuillères est un art méditatif qui peut stimuler votre créativité et vous inspirer pour créer un objet qui ajoutera une belle touche de nature à votre cuisine. \nCet atelier abordera les pratiques de sécurité\, les types de bois et une introduction aux techniques de base de la sculpture. À la fin de la journée\, vous repartirez avec une cuillère en bois sculptée à la main\, unique en son genre et créée par vos soins ! \nAucune expérience n’est nécessaire\, il suffit de savoir manier un couteau en toute sécurité et d’être prêt à essayer quelque chose de nouveau. \nS’inscrire à l’URL indiqué. 14 ans et plus
URL:https://www.craftnb.ca/event/atelier-de-la-fete-de-lete-sculpture-de-cuilleres-en-bois-avec-barry-smith/
LOCATION:Carleton Park and Picaroons\, 912 Union St.\, Fredericton\, New Brunswick\, E3A 5M5\, Canada
CATEGORIES:Cours et ateliers
ATTACH;FMTTYPE=image/png:https://www.craftnb.ca/wp-content/uploads/2023/07/Workshop-Poster-1-1.png
ORGANIZER;CN="Craft NB Metiers d'Arts":MAILTO:communications@craftnb.ca
END:VEVENT
BEGIN:VEVENT
DTSTART;TZID=America/Halifax:20230807T110000
DTEND;TZID=America/Halifax:20230807T190000
DTSTAMP:20260425T204737
CREATED:20230720T160402Z
LAST-MODIFIED:20230720T160402Z
UID:38304-1691406000-1691434800@www.craftnb.ca
SUMMARY:Summer Fest Workshop:  Foraged Fibre Basketry with Ralph Simpson
DESCRIPTION:Make a basket with plants from your garden. \nLearn the processes of foraged fibre basketry including local foraging\, processing\, proper storage techniques\, and how to prepare the fibres for use in weaving. Participants will create their very own hand-crafted basket from locally collected plant fibres! \nThis basketry workshop is designed for beginners and has the scope to accommodate the \ninterests of intermediate basket weavers as well.  \nRegister at the URL linked. Ages 14+
URL:https://www.craftnb.ca/event/summer-fest-workshop-foraged-fibre-basketry-with-ralph-simpson/
LOCATION:Carleton Park and Picaroons\, 912 Union St.\, Fredericton\, New Brunswick\, E3A 5M5\, Canada
CATEGORIES:Classes and Workshops
ATTACH;FMTTYPE=image/png:https://www.craftnb.ca/wp-content/uploads/2023/07/Workshop-Poster-3.png
ORGANIZER;CN="Craft NB Metiers d'Arts":MAILTO:communications@craftnb.ca
END:VEVENT
BEGIN:VEVENT
DTSTART;TZID=America/Halifax:20230807T110000
DTEND;TZID=America/Halifax:20230807T190000
DTSTAMP:20260425T204737
CREATED:20230720T160545Z
LAST-MODIFIED:20230720T160548Z
UID:38306-1691406000-1691434800@www.craftnb.ca
SUMMARY:Atelier de la Fête de l'été :  Vannerie de fibres fourragères avec Ralph Simpson
DESCRIPTION:Fabriquez un panier avec des plantes de votre jardin. \nApprenez les processus de la vannerie de fibres ramassées\, y compris le ramassage local\, la transformation\, les techniques de stockage appropriées et la façon de préparer les fibres pour leur utilisation dans le tissage. Les participants créeront leur propre panier artisanal à partir de fibres végétales collectées localement ! \nCet atelier de vannerie est conçu pour les débutants et peut également répondre aux intérêts des vanniers intermédiaires. \nS’inscrire à l’URL indiqué. 14 ans et plus
URL:https://www.craftnb.ca/event/atelier-de-la-fete-de-lete-vannerie-de-fibres-fourrageres-avec-ralph-simpson/
LOCATION:Carleton Park and Picaroons\, 912 Union St.\, Fredericton\, New Brunswick\, E3A 5M5\, Canada
CATEGORIES:Cours et ateliers
ATTACH;FMTTYPE=image/png:https://www.craftnb.ca/wp-content/uploads/2023/07/Workshop-Poster-3.png
ORGANIZER;CN="Craft NB Metiers d'Arts":MAILTO:communications@craftnb.ca
END:VEVENT
BEGIN:VEVENT
DTSTART;TZID=America/Halifax:20230807T110000
DTEND;TZID=America/Halifax:20230807T193000
DTSTAMP:20260425T204737
CREATED:20230720T151852Z
LAST-MODIFIED:20230720T151852Z
UID:38285-1691406000-1691436600@www.craftnb.ca
SUMMARY:Craft NB Summer Fest
DESCRIPTION:After a few years off\, we are back for our 2023 Summer Fest!  We are thrilled to be partnering with Picaroons to bring you and amazing New Brunswick day celebration on Fredericton’s North side.  20+ of Craft NB’s juried members will be set up indoors in the Picaroons Roundhouse\, and outside in Carleton Park – adjacent to the brewery. \nNew Brunswick is home to some of the country’s most accomplished artists\, and we are so proud of the immense amount of talent that New Brunswick has to offer.  We believe that craft is the embodiment of New Brunswick culture\, so we are so excited to celebrate with the people of New Brunswick for this fine craft celebration!
URL:https://www.craftnb.ca/event/craft-nb-summer-fest/
LOCATION:Carleton Park and Picaroons\, 912 Union St.\, Fredericton\, New Brunswick\, E3A 5M5\, Canada
CATEGORIES:Festivals
ATTACH;FMTTYPE=image/png:https://www.craftnb.ca/wp-content/uploads/2023/07/Summer-Fest-Post-4.png
ORGANIZER;CN="Craft NB Metiers d'Arts":MAILTO:communications@craftnb.ca
END:VEVENT
BEGIN:VEVENT
DTSTART;TZID=America/Halifax:20230807T110000
DTEND;TZID=America/Halifax:20230807T193000
DTSTAMP:20260425T204737
CREATED:20230720T152154Z
LAST-MODIFIED:20230720T152157Z
UID:38290-1691406000-1691436600@www.craftnb.ca
SUMMARY:FESTIVAL D’ÉTÉ MÉTIERS D’ART NB
DESCRIPTION:Après quelques années de repos\, nous sommes de retour pour notre festival d’été 2023 ! Nous sommes ravis de nous associer à Picaroons pour vous offrir une incroyable célébration de la fête du Nouveau-Brunswick dans le quartier nord de Fredericton. Plus de 20 membres du jury de Métiers d’Art NB seront installés à l’intérieur dans la rotonde de Picaroons et à l’extérieur dans le parc Carleton\, à côté de la brasserie. \nLe Nouveau-Brunswick abrite certains des artistes les plus accomplis du pays\, et nous sommes très fiers de l’immense quantité de talents que la province a à offrir. Nous croyons que l’artisanat est l’incarnation de la culture néo-brunswickoise\, et nous sommes donc ravis de célébrer avec les gens du Nouveau-Brunswick à l’occasion de cette fête des métiers d’art !
URL:https://www.craftnb.ca/event/festival-dete-metiers-dart-nb/
LOCATION:Carleton Park and Picaroons\, 912 Union St.\, Fredericton\, New Brunswick\, E3A 5M5\, Canada
CATEGORIES:Festivals
ATTACH;FMTTYPE=image/png:https://www.craftnb.ca/wp-content/uploads/2023/07/Summer-Fest-Post-4.png
ORGANIZER;CN="Craft NB Metiers d'Arts":MAILTO:communications@craftnb.ca
END:VEVENT
BEGIN:VEVENT
DTSTART;TZID=America/Halifax:20230807T183000
DTEND;TZID=America/Halifax:20230807T193000
DTSTAMP:20260425T204737
CREATED:20230720T163634Z
LAST-MODIFIED:20230720T163705Z
UID:38308-1691433000-1691436600@www.craftnb.ca
SUMMARY:Summer Fest Workshop: Shibori Indigo Experience with Renata Britez
DESCRIPTION:Learn the basics of indigo vat dyeing with natural dyer Renata Britez. Participants will learn a basic indigo vat recipe and will create shibori patterns on fabric using traditional and modern techniques. Focusing on creating patterns with shibori techniques in surface design and dyeing on indigo\, participants will leave with sample swatches in natural fibers as well as a finished scarf/bandana with a pattern created in class. Students will be allowed to bring 1(ONE) piece of natural fibre garment (cotton shirt\, viscose\, linen\, or silk) to customize their piece. \nStudents will also receive informational handouts on how to repeat the process at home. No experience necessary. \nThis workshop is family-friendly and is suitable for ages 10+yrs as well as adults. \nRegister at the URL linked.
URL:https://www.craftnb.ca/event/summer-fest-workshop-shibori-indigo-experience-with-renata-britez/
LOCATION:Carleton Park and Picaroons\, 912 Union St.\, Fredericton\, New Brunswick\, E3A 5M5\, Canada
CATEGORIES:Classes and Workshops
ATTACH;FMTTYPE=image/png:https://www.craftnb.ca/wp-content/uploads/2023/07/Workshop-Poster-4.png
ORGANIZER;CN="Craft NB Metiers d'Arts":MAILTO:communications@craftnb.ca
END:VEVENT
BEGIN:VEVENT
DTSTART;TZID=America/Halifax:20230807T183000
DTEND;TZID=America/Halifax:20230807T193000
DTSTAMP:20260425T204737
CREATED:20230720T163852Z
LAST-MODIFIED:20230720T163856Z
UID:38314-1691433000-1691436600@www.craftnb.ca
SUMMARY:Atelier Summer Fest : Shibori Indigo Experience avec Renata Britez
DESCRIPTION:Apprenez les bases de la teinture à l’indigo en cuve avec Renata Britez\, teinturière naturelle. Les participants apprendront une recette de base de la teinture à l’indigo et créeront des motifs shibori sur du tissu en utilisant des techniques traditionnelles et modernes. Les participants repartiront avec des échantillons de tissus en fibres naturelles ainsi qu’un foulard/bandana fini avec un motif créé en classe. Les étudiants seront autorisés à apporter 1 (UN) vêtement en fibres naturelles (chemise en coton\, viscose\, lin ou soie) pour personnaliser leur pièce. \nLes étudiants recevront également des documents d’information sur la façon de répéter le processus à la maison. Aucune expérience n’est nécessaire. \nCet atelier est familial et convient aux 10 ans et plus ainsi qu’aux adultes. \nS’inscrire à l’URL indiqué.
URL:https://www.craftnb.ca/event/atelier-summer-fest-shibori-indigo-experience-avec-renata-britez/
LOCATION:Carleton Park and Picaroons\, 912 Union St.\, Fredericton\, New Brunswick\, E3A 5M5\, Canada
CATEGORIES:Cours et ateliers
ATTACH;FMTTYPE=image/png:https://www.craftnb.ca/wp-content/uploads/2023/07/Workshop-Poster-4.png
ORGANIZER;CN="Craft NB Metiers d'Arts":MAILTO:communications@craftnb.ca
END:VEVENT
BEGIN:VEVENT
DTSTART;TZID=America/Halifax:20231104T100000
DTEND;TZID=America/Halifax:20231105T170000
DTSTAMP:20260425T204737
CREATED:20231025T124045Z
LAST-MODIFIED:20231025T134217Z
UID:38383-1699092000-1699203600@www.craftnb.ca
SUMMARY:Christmas Festival 2023 - Fredericton
DESCRIPTION:
URL:https://www.craftnb.ca/event/christmas-festival-2023-fredericton/
LOCATION:Beaverbrook Art Gallery\, 703 Queen St.\, Fredericton\, New Brunswick\, E3B 1C4\, Canada
CATEGORIES:Feativals and Markets,Festivals
ATTACH;FMTTYPE=image/png:https://www.craftnb.ca/wp-content/uploads/2023/10/FB-Event-Banners-Fred-SJ-1.png
ORGANIZER;CN="Craft NB Metiers d'Arts":MAILTO:communications@craftnb.ca
END:VEVENT
BEGIN:VEVENT
DTSTART;VALUE=DATE:20231201
DTEND;VALUE=DATE:20231204
DTSTAMP:20260425T204737
CREATED:20231025T130540Z
LAST-MODIFIED:20231025T130540Z
UID:38388-1701388800-1701647999@www.craftnb.ca
SUMMARY:Christmas Festival - Saint John
DESCRIPTION:
URL:https://www.craftnb.ca/event/christmas-festival-saint-john/
LOCATION:UNBSJ – Grand Hall\, 40 Charlotte St.\, Saint John\, \, NB\, E2L 2H6\, Canada
CATEGORIES:Feativals and Markets,Festivals
ATTACH;FMTTYPE=image/png:https://www.craftnb.ca/wp-content/uploads/2023/10/FB-Event-Banners-Fred-SJ.png
ORGANIZER;CN="Craft NB Metiers d'Arts":MAILTO:communications@craftnb.ca
END:VEVENT
BEGIN:VEVENT
DTSTART;TZID=America/Halifax:20241207T100000
DTEND;TZID=America/Halifax:20241208T170000
DTSTAMP:20260425T204737
CREATED:20240630T000507Z
LAST-MODIFIED:20240630T002303Z
UID:38629-1733565600-1733677200@www.craftnb.ca
SUMMARY:Craft NB Christmas Festival 2024 - Fredericton
DESCRIPTION:VENDOR REGISTRATION IS OPEN \nCraft NB’s annual Christmas Festival will have a second weekend in Fredericton at the Beaverbrook Art Gallery! Showcasing fine craft by master craftspeople working in glass\, leather\, pottery\, jewellery\, metalworks\, fine art\, wood\, fibre\, basketry and more! \nAdmission to the show is FREE to the general public \nEmerging Artist’s Booth\nThis year we are adding a limited number of spots for emerging artisans (general & student members). These spots will be juried for the sale by a Selection Committee. If you are interested in an emerging artist spot\, please email events@craftnb.ca for more information \nSet up will take place on Friday\, Dec. 6th – Additional details to follow for registered vendors \nSale Dates & Times: \nSaturday\, December 7 – 10am – 5pm\nSaturday\, December 8 – 12pm – 5pm \nCraft NB Festival Booth Policies: \nIf cancellation occurs at least thirty (30) days before the festival\, Craft NB will retain $150 and the remaining balance will be returned to the member.\nIf cancellation occurs within thirty (30) days before the festival\, the full payment is retained by Craft NB.\nA full refund will be given only in cases of stated emergencies (hospitalization\, death in family\, etc.)\nIf cancellation of the entire event occurs due to COVID restrictions\, a full refund will be issued to all participants. \nCraft NB reserves the right to review all vendors/registrants to ensure there is a variety of craft mediums on display. Please note\, booths are only open to Juried Members in good standing. If you are a general or student member\, please refer to the Emerging Artisan Category. \nRESERVE YOUR BOOTH TODAY: \n\n\nLoading…
URL:https://www.craftnb.ca/event/craft-nb-christmas-festival-2024-fredericton/
LOCATION:Beaverbrook Art Gallery\, 703 Queen St.\, Fredericton\, New Brunswick\, E3B 1C4\, Canada
ORGANIZER;CN="Craft NB Metiers d'Arts":MAILTO:communications@craftnb.ca
END:VEVENT
BEGIN:VEVENT
DTSTART;TZID=America/Halifax:20250829T160000
DTEND;TZID=America/Halifax:20250831T170000
DTSTAMP:20260425T204737
CREATED:20250508T143153Z
LAST-MODIFIED:20250508T143417Z
UID:38744-1756483200-1756659600@www.craftnb.ca
SUMMARY:Mactaquac Craft Festival
DESCRIPTION:https://www.mactaquaccraftfest.com/#!event-register/2025/8/29/mactaquac-craft-festival-ticketed-events
URL:https://www.craftnb.ca/event/mactaquac-craft-festival/
LOCATION:York Centennial Stie\, Mactaquac Provincial Park\, NB\, 1439 NB-105\, Bright Parish\, NB\, E6L 1B3\, Canada
CATEGORIES:Festivals
END:VEVENT
END:VCALENDAR