BEGIN:VCALENDAR
VERSION:2.0
PRODID:-//Craft NB / Métiers d&#039;art NB - ECPv6.15.17.1//NONSGML v1.0//EN
CALSCALE:GREGORIAN
METHOD:PUBLISH
X-WR-CALNAME:Craft NB / Métiers d&#039;art NB
X-ORIGINAL-URL:https://www.craftnb.ca
X-WR-CALDESC:Events for Craft NB / Métiers d&#039;art NB
REFRESH-INTERVAL;VALUE=DURATION:PT1H
X-Robots-Tag:noindex
X-PUBLISHED-TTL:PT1H
BEGIN:VTIMEZONE
TZID:America/Halifax
BEGIN:DAYLIGHT
TZOFFSETFROM:-0400
TZOFFSETTO:-0300
TZNAME:ADT
DTSTART:20220313T060000
END:DAYLIGHT
BEGIN:STANDARD
TZOFFSETFROM:-0300
TZOFFSETTO:-0400
TZNAME:AST
DTSTART:20221106T050000
END:STANDARD
BEGIN:DAYLIGHT
TZOFFSETFROM:-0400
TZOFFSETTO:-0300
TZNAME:ADT
DTSTART:20230312T060000
END:DAYLIGHT
BEGIN:STANDARD
TZOFFSETFROM:-0300
TZOFFSETTO:-0400
TZNAME:AST
DTSTART:20231105T050000
END:STANDARD
BEGIN:DAYLIGHT
TZOFFSETFROM:-0400
TZOFFSETTO:-0300
TZNAME:ADT
DTSTART:20240310T060000
END:DAYLIGHT
BEGIN:STANDARD
TZOFFSETFROM:-0300
TZOFFSETTO:-0400
TZNAME:AST
DTSTART:20241103T050000
END:STANDARD
BEGIN:DAYLIGHT
TZOFFSETFROM:-0400
TZOFFSETTO:-0300
TZNAME:ADT
DTSTART:20250309T060000
END:DAYLIGHT
BEGIN:STANDARD
TZOFFSETFROM:-0300
TZOFFSETTO:-0400
TZNAME:AST
DTSTART:20251102T050000
END:STANDARD
BEGIN:DAYLIGHT
TZOFFSETFROM:-0400
TZOFFSETTO:-0300
TZNAME:ADT
DTSTART:20260308T060000
END:DAYLIGHT
BEGIN:STANDARD
TZOFFSETFROM:-0300
TZOFFSETTO:-0400
TZNAME:AST
DTSTART:20261101T050000
END:STANDARD
END:VTIMEZONE
BEGIN:VEVENT
DTSTART;TZID=America/Halifax:20231104T100000
DTEND;TZID=America/Halifax:20231105T170000
DTSTAMP:20260425T145457
CREATED:20231025T124045Z
LAST-MODIFIED:20231025T134217Z
UID:38383-1699092000-1699203600@www.craftnb.ca
SUMMARY:Christmas Festival 2023 - Fredericton
DESCRIPTION:
URL:https://www.craftnb.ca/event/christmas-festival-2023-fredericton/
LOCATION:Beaverbrook Art Gallery\, 703 Queen St.\, Fredericton\, New Brunswick\, E3B 1C4\, Canada
CATEGORIES:Feativals and Markets,Festivals
ATTACH;FMTTYPE=image/png:https://www.craftnb.ca/wp-content/uploads/2023/10/FB-Event-Banners-Fred-SJ-1.png
ORGANIZER;CN="Craft NB Metiers d'Arts":MAILTO:communications@craftnb.ca
END:VEVENT
BEGIN:VEVENT
DTSTART;VALUE=DATE:20231201
DTEND;VALUE=DATE:20231204
DTSTAMP:20260425T145457
CREATED:20231025T130540Z
LAST-MODIFIED:20231025T130540Z
UID:38388-1701388800-1701647999@www.craftnb.ca
SUMMARY:Christmas Festival - Saint John
DESCRIPTION:
URL:https://www.craftnb.ca/event/christmas-festival-saint-john/
LOCATION:UNBSJ – Grand Hall\, 40 Charlotte St.\, Saint John\, \, NB\, E2L 2H6\, Canada
CATEGORIES:Feativals and Markets,Festivals
ATTACH;FMTTYPE=image/png:https://www.craftnb.ca/wp-content/uploads/2023/10/FB-Event-Banners-Fred-SJ.png
ORGANIZER;CN="Craft NB Metiers d'Arts":MAILTO:communications@craftnb.ca
END:VEVENT
BEGIN:VEVENT
DTSTART;TZID=America/Halifax:20241207T100000
DTEND;TZID=America/Halifax:20241208T170000
DTSTAMP:20260425T145457
CREATED:20240630T000507Z
LAST-MODIFIED:20240630T002303Z
UID:38629-1733565600-1733677200@www.craftnb.ca
SUMMARY:Craft NB Christmas Festival 2024 - Fredericton
DESCRIPTION:VENDOR REGISTRATION IS OPEN \nCraft NB’s annual Christmas Festival will have a second weekend in Fredericton at the Beaverbrook Art Gallery! Showcasing fine craft by master craftspeople working in glass\, leather\, pottery\, jewellery\, metalworks\, fine art\, wood\, fibre\, basketry and more! \nAdmission to the show is FREE to the general public \nEmerging Artist’s Booth\nThis year we are adding a limited number of spots for emerging artisans (general & student members). These spots will be juried for the sale by a Selection Committee. If you are interested in an emerging artist spot\, please email events@craftnb.ca for more information \nSet up will take place on Friday\, Dec. 6th – Additional details to follow for registered vendors \nSale Dates & Times: \nSaturday\, December 7 – 10am – 5pm\nSaturday\, December 8 – 12pm – 5pm \nCraft NB Festival Booth Policies: \nIf cancellation occurs at least thirty (30) days before the festival\, Craft NB will retain $150 and the remaining balance will be returned to the member.\nIf cancellation occurs within thirty (30) days before the festival\, the full payment is retained by Craft NB.\nA full refund will be given only in cases of stated emergencies (hospitalization\, death in family\, etc.)\nIf cancellation of the entire event occurs due to COVID restrictions\, a full refund will be issued to all participants. \nCraft NB reserves the right to review all vendors/registrants to ensure there is a variety of craft mediums on display. Please note\, booths are only open to Juried Members in good standing. If you are a general or student member\, please refer to the Emerging Artisan Category. \nRESERVE YOUR BOOTH TODAY: \n\n\nLoading…
URL:https://www.craftnb.ca/event/craft-nb-christmas-festival-2024-fredericton/
LOCATION:Beaverbrook Art Gallery\, 703 Queen St.\, Fredericton\, New Brunswick\, E3B 1C4\, Canada
ORGANIZER;CN="Craft NB Metiers d'Arts":MAILTO:communications@craftnb.ca
END:VEVENT
BEGIN:VEVENT
DTSTART;TZID=America/Halifax:20250829T160000
DTEND;TZID=America/Halifax:20250831T170000
DTSTAMP:20260425T145457
CREATED:20250508T143153Z
LAST-MODIFIED:20250508T143417Z
UID:38744-1756483200-1756659600@www.craftnb.ca
SUMMARY:Mactaquac Craft Festival
DESCRIPTION:https://www.mactaquaccraftfest.com/#!event-register/2025/8/29/mactaquac-craft-festival-ticketed-events
URL:https://www.craftnb.ca/event/mactaquac-craft-festival/
LOCATION:York Centennial Stie\, Mactaquac Provincial Park\, NB\, 1439 NB-105\, Bright Parish\, NB\, E6L 1B3\, Canada
CATEGORIES:Festivals
END:VEVENT
END:VCALENDAR