BEGIN:VCALENDAR
VERSION:2.0
PRODID:-//Craft NB / Métiers d&#039;art NB - ECPv6.15.17.1//NONSGML v1.0//EN
CALSCALE:GREGORIAN
METHOD:PUBLISH
X-WR-CALNAME:Craft NB / Métiers d&#039;art NB
X-ORIGINAL-URL:https://www.craftnb.ca
X-WR-CALDESC:Events for Craft NB / Métiers d&#039;art NB
REFRESH-INTERVAL;VALUE=DURATION:PT1H
X-Robots-Tag:noindex
X-PUBLISHED-TTL:PT1H
BEGIN:VTIMEZONE
TZID:America/Halifax
BEGIN:DAYLIGHT
TZOFFSETFROM:-0400
TZOFFSETTO:-0300
TZNAME:ADT
DTSTART:20210314T060000
END:DAYLIGHT
BEGIN:STANDARD
TZOFFSETFROM:-0300
TZOFFSETTO:-0400
TZNAME:AST
DTSTART:20211107T050000
END:STANDARD
BEGIN:DAYLIGHT
TZOFFSETFROM:-0400
TZOFFSETTO:-0300
TZNAME:ADT
DTSTART:20220313T060000
END:DAYLIGHT
BEGIN:STANDARD
TZOFFSETFROM:-0300
TZOFFSETTO:-0400
TZNAME:AST
DTSTART:20221106T050000
END:STANDARD
BEGIN:DAYLIGHT
TZOFFSETFROM:-0400
TZOFFSETTO:-0300
TZNAME:ADT
DTSTART:20230312T060000
END:DAYLIGHT
BEGIN:STANDARD
TZOFFSETFROM:-0300
TZOFFSETTO:-0400
TZNAME:AST
DTSTART:20231105T050000
END:STANDARD
END:VTIMEZONE
BEGIN:VEVENT
DTSTART;TZID=America/Halifax:20220610T080000
DTEND;TZID=America/Halifax:20220723T170000
DTSTAMP:20260423T064935
CREATED:20220713T150529Z
LAST-MODIFIED:20220713T150532Z
UID:36289-1654848000-1658595600@www.craftnb.ca
SUMMARY:Ellen's Tour
DESCRIPTION:Cette exposition en l’honneur d’Ellen Watters est présentée par Ax : The Arts and Culture Centre of Sussex\, et présente les œuvres de huit artistes.  Deux membres du jury de Carft NB participent à cette exposition : I-Chun Jenkins et Heather McCaig.
URL:https://www.craftnb.ca/event/ellens-tour/
LOCATION:Ax: The Arts and Culture Centre of Sussex\, 12 Maple Ave\, Sussex\, New Brunswick\, E4E 2N5\, Canada
CATEGORIES:Expositions
ATTACH;FMTTYPE=image/jpeg:https://www.craftnb.ca/wp-content/uploads/2022/07/Image-from-iOS-13.jpg
END:VEVENT
BEGIN:VEVENT
DTSTART;TZID=America/Halifax:20220610T080000
DTEND;TZID=America/Halifax:20220723T170000
DTSTAMP:20260423T064935
CREATED:20220713T150445Z
LAST-MODIFIED:20220713T150613Z
UID:36283-1654848000-1658595600@www.craftnb.ca
SUMMARY:Ellen's Tour
DESCRIPTION:This exhibition in honou of Ellen Watters is presented by Ax: The Arts and Culture Centre of Sussex\, and features work from 8 artists.  Two juried Carft NB members are featured in this exhibition – I-Chun Jenkins and Heather McCaig.
URL:https://www.craftnb.ca/event/ellens-tour/
LOCATION:Ax: The Arts and Culture Centre of Sussex\, 12 Maple Ave\, Sussex\, New Brunswick\, E4E 2N5\, Canada
CATEGORIES:Exhibitions
ATTACH;FMTTYPE=image/jpeg:https://www.craftnb.ca/wp-content/uploads/2022/07/Image-from-iOS-13.jpg
END:VEVENT
END:VCALENDAR