BEGIN:VCALENDAR
VERSION:2.0
PRODID:-//Craft NB / Métiers d&#039;art NB - ECPv6.15.17.1//NONSGML v1.0//EN
CALSCALE:GREGORIAN
METHOD:PUBLISH
X-WR-CALNAME:Craft NB / Métiers d&#039;art NB
X-ORIGINAL-URL:https://www.craftnb.ca
X-WR-CALDESC:Events for Craft NB / Métiers d&#039;art NB
REFRESH-INTERVAL;VALUE=DURATION:PT1H
X-Robots-Tag:noindex
X-PUBLISHED-TTL:PT1H
BEGIN:VTIMEZONE
TZID:America/Halifax
BEGIN:DAYLIGHT
TZOFFSETFROM:-0400
TZOFFSETTO:-0300
TZNAME:ADT
DTSTART:20210314T060000
END:DAYLIGHT
BEGIN:STANDARD
TZOFFSETFROM:-0300
TZOFFSETTO:-0400
TZNAME:AST
DTSTART:20211107T050000
END:STANDARD
BEGIN:DAYLIGHT
TZOFFSETFROM:-0400
TZOFFSETTO:-0300
TZNAME:ADT
DTSTART:20220313T060000
END:DAYLIGHT
BEGIN:STANDARD
TZOFFSETFROM:-0300
TZOFFSETTO:-0400
TZNAME:AST
DTSTART:20221106T050000
END:STANDARD
BEGIN:DAYLIGHT
TZOFFSETFROM:-0400
TZOFFSETTO:-0300
TZNAME:ADT
DTSTART:20230312T060000
END:DAYLIGHT
BEGIN:STANDARD
TZOFFSETFROM:-0300
TZOFFSETTO:-0400
TZNAME:AST
DTSTART:20231105T050000
END:STANDARD
END:VTIMEZONE
BEGIN:VEVENT
DTSTART;TZID=America/Halifax:20221202T150000
DTEND;TZID=America/Halifax:20221204T160000
DTSTAMP:20260419T172951
CREATED:20220712T152833Z
LAST-MODIFIED:20221124T135316Z
UID:36242-1669993200-1670169600@www.craftnb.ca
SUMMARY:Craft NB Christmas Festival
DESCRIPTION:Shop from New Brunswicks most practiced and accomplished artists\, just in time for Christmas. \nJuried Craft NB Members attending this event: Bernard Long (Atelier Pierre de Lune)\, Sadie Gagner (Topsail Canvas)\, Kennedy McKeen (Midas Well Creations)\, Patricia Goodine (Five Crows Silver)\, Laura Richard (Saltwinds Coffee Company)\, Bella McBride (McBride House)\, Shelley Beckett-Jette (Inferno By Canoe Cove Studios)\, Jamie Brown (Jamie Brown Designs)\, Renata Britez (RB Studio)\, Cynthia Johnson-Phillips (Fiddling Ferns Artisan Studio)\, Megan Billings (Megan Billings Pottery)\, Kelly Cooke (Brettlynn Farms)\, Maureen Fryday (Fryday’s Child)\, Alyson Brown (Legacy Lane Fiber Mill)\, Dorothee Rosen (Dorothee Rosen Designer Goldsmith)\, Kas Stone (Kas Stone Photographic Art)\, Steve Jones (Steve Jones Yo)\, Trudy Gilbertson (Cabin Fever Carving)\, Heather McCaig (Heather McCaig Glass)\, Nick Brown (NB Wood Finery)\, Jonathan Corey (Masterworks Jewellery by Jonathan Corey)\, Robyn Shortt (Robyn Shortt Photography)\, Karen Loberg (Handwoven Treasures Studio In the Woods)\, Andrew Palmer (Roberta Originals)\, Ralph Simpson (Ralph Simpson – Plant Fiber Artist)\, Michelle Beaulieu (The Apron Girl Boutique)\, Barry Smith (Bare Spoons) Vicki Haddon (Soul’s Journey Jewelry)
URL:https://www.craftnb.ca/event/christmas-fest/
LOCATION:Marco Polo Cruise Terminal\, 111 Water St\, Saint John\, New-Brunswick\, E2L 0B1\, Canada
CATEGORIES:Festivals
ATTACH;FMTTYPE=image/jpeg:https://www.craftnb.ca/wp-content/uploads/2022/01/christmasfest2022.jpg
ORGANIZER;CN="Craft NB Metiers d'Arts":MAILTO:communications@craftnb.ca
END:VEVENT
BEGIN:VEVENT
DTSTART;TZID=America/Halifax:20221218T110000
DTEND;TZID=America/Halifax:20221218T170000
DTSTAMP:20260419T172951
CREATED:20221208T150521Z
LAST-MODIFIED:20221208T150521Z
UID:37186-1671361200-1671382800@www.craftnb.ca
SUMMARY:Holiday Joy Last Minute Sale at RB Studio Art Centre and Gallery
DESCRIPTION:Last minute sale at RB Studio Art Centre and Gallery \nFeaturing work from Craft NB juried members: Renata Britez (RB Designs)\, Ann Fillmore (Ann E. Fillmore Metalworks)\, Kimberly Bent (Bent Threads)\, Brenda Parks (Brenda Parks Pottery)\, Deborah Payne (Debbie Payne Textiles)\, I-Chun Jenkins (Fibre Theory)\, Alison Murphy (Joyful Coyote)\, Vicki Haddon (Soul’s Journey Jewelry)\, Anne Stillwell-LeBlanc (Ridge Works Studio)\, Robyn Shortt (Robyn Shortt Photography)\, Tara Battram (Tara Battram Jewellery)\, Tracey O’Brien (Tracy O’Brien Textiles)
URL:https://www.craftnb.ca/event/holiday-joy-last-minute-sale-at-rb-studio-art-centre-and-gallery/
LOCATION:RB Studio Art Centre and Gallery\, 1624 Hanwell Rd\, Fredericton\, New Brunswick\, E3C 1N3\, Canada
CATEGORIES:Pop-Up
ATTACH;FMTTYPE=image/jpeg:https://www.craftnb.ca/wp-content/uploads/2022/12/317558818_842904833671160_8999485184049563843_n.jpg
END:VEVENT
END:VCALENDAR